BEGIN:VCALENDAR
VERSION:2.0
PRODID:-//LEV - ECPv6.15.20//NONSGML v1.0//EN
CALSCALE:GREGORIAN
METHOD:PUBLISH
X-WR-CALNAME:LEV
X-ORIGINAL-URL:https://bandlev.nl
X-WR-CALDESC:Evenementen voor LEV
REFRESH-INTERVAL;VALUE=DURATION:PT1H
X-Robots-Tag:noindex
X-PUBLISHED-TTL:PT1H
BEGIN:VTIMEZONE
TZID:Europe/Amsterdam
BEGIN:DAYLIGHT
TZOFFSETFROM:+0100
TZOFFSETTO:+0200
TZNAME:CEST
DTSTART:20250330T010000
END:DAYLIGHT
BEGIN:STANDARD
TZOFFSETFROM:+0200
TZOFFSETTO:+0100
TZNAME:CET
DTSTART:20251026T010000
END:STANDARD
BEGIN:DAYLIGHT
TZOFFSETFROM:+0100
TZOFFSETTO:+0200
TZNAME:CEST
DTSTART:20260329T010000
END:DAYLIGHT
BEGIN:STANDARD
TZOFFSETFROM:+0200
TZOFFSETTO:+0100
TZNAME:CET
DTSTART:20261025T010000
END:STANDARD
BEGIN:DAYLIGHT
TZOFFSETFROM:+0100
TZOFFSETTO:+0200
TZNAME:CEST
DTSTART:20270328T010000
END:DAYLIGHT
BEGIN:STANDARD
TZOFFSETFROM:+0200
TZOFFSETTO:+0100
TZNAME:CET
DTSTART:20271031T010000
END:STANDARD
END:VTIMEZONE
BEGIN:VEVENT
DTSTART;TZID=Europe/Amsterdam:20260228T200000
DTEND;TZID=Europe/Amsterdam:20260228T223000
DTSTAMP:20260421T102556
CREATED:20251126T170405Z
LAST-MODIFIED:20251126T170405Z
UID:11590-1772308800-1772317800@bandlev.nl
SUMMARY:Voorjaarstour Kleine sprankjes hoop
DESCRIPTION:
URL:https://bandlev.nl/agenda/voorjaarstour-kleine-sprankjes-hoop-5/
LOCATION:Kruiskerk – Baptistengemeente Dordrecht\, Vrieseweg 64\, Dordrecht\, 3311 NX
END:VEVENT
END:VCALENDAR