BEGIN:VCALENDAR
VERSION:2.0
PRODID:-//LEV - ECPv6.15.20//NONSGML v1.0//EN
CALSCALE:GREGORIAN
METHOD:PUBLISH
X-WR-CALNAME:LEV
X-ORIGINAL-URL:https://bandlev.nl
X-WR-CALDESC:Evenementen voor LEV
REFRESH-INTERVAL;VALUE=DURATION:PT1H
X-Robots-Tag:noindex
X-PUBLISHED-TTL:PT1H
BEGIN:VTIMEZONE
TZID:Europe/Amsterdam
BEGIN:DAYLIGHT
TZOFFSETFROM:+0100
TZOFFSETTO:+0200
TZNAME:CEST
DTSTART:20210328T010000
END:DAYLIGHT
BEGIN:STANDARD
TZOFFSETFROM:+0200
TZOFFSETTO:+0100
TZNAME:CET
DTSTART:20211031T010000
END:STANDARD
BEGIN:DAYLIGHT
TZOFFSETFROM:+0100
TZOFFSETTO:+0200
TZNAME:CEST
DTSTART:20220327T010000
END:DAYLIGHT
BEGIN:STANDARD
TZOFFSETFROM:+0200
TZOFFSETTO:+0100
TZNAME:CET
DTSTART:20221030T010000
END:STANDARD
BEGIN:DAYLIGHT
TZOFFSETFROM:+0100
TZOFFSETTO:+0200
TZNAME:CEST
DTSTART:20230326T010000
END:DAYLIGHT
BEGIN:STANDARD
TZOFFSETFROM:+0200
TZOFFSETTO:+0100
TZNAME:CET
DTSTART:20231029T010000
END:STANDARD
END:VTIMEZONE
BEGIN:VEVENT
DTSTART;TZID=Europe/Amsterdam:20220525T193000
DTEND;TZID=Europe/Amsterdam:20220525T223000
DTSTAMP:20260422T023048
CREATED:20220403T173858Z
LAST-MODIFIED:20220403T174110Z
UID:4435-1653507000-1653517800@bandlev.nl
SUMMARY:Openingsconcert Strandheem Festival
DESCRIPTION:Openingsconcert Strandheem Festival Matt Redman en LEV\nStrandheem Festival pakt in 2022 groots uit met een exclusief optreden in Nederland van Matt Redman!\nZing de eerste tonen van ’10.000 Reasons’ (’10.000 Redenen’) en iedereen zingt met je mee. Het is de kracht van de liederen van Matt Redman\, die mensen al decennia verbindt. En dat is slechts één voorbeeld uit het rijke repertoire van de Britse aanbiddingsleider. Ook vertalingen van ‘The Heart Of Worship’ en ‘You Never Let Go’ kregen een plek in liedbundels wereldwijd. En wie kent niet de liederen ‘Blessed be your name’ en ‘One Day’?! \nOp woensdag 25 mei 2022 zal Grammy Award winnaar en populaire aanbiddingsleider Matt Redman met full-band speciaal naar Nederland komen voor het openingsconcert van Strandheem Festival 2022! \nHet is bijna ondoenlijk om de bijdrage van Matt Redman aan hedendaagse aanbidding te omschrijven. Vanuit bewegingen als Soul Survivor en Passion sprak hij met herkenbare teksten een nieuwe generatie aan. Als aanbiddingsleider bleek hij jong en oud bij elkaar te brengen. Redmans nuchtere en oprechte houding in zijn muziek en teksten\, zijn passie voor zuiverheid in aanbidding en de herkenning bij de geloofslevens van miljoenen hebben van hem een wereldwijd geliefde persoon gemaakt. Verschillende van zijn liederen zijn in Nederland opgenomen in de bundel\nOpwekkingsliederen (‘Hart van aanbidding’\, ‘10.000 redenen’\, ‘Nooit meer alleen’ en ‘Op die dag’) Maar Matt Redman blijft consequent in wat hij doet: zijn platform is nooit een doel op zich. De liederen die hij brengt\, wijzen keer op keer op het unieke karakter van God en de relatie die Hij met ons heeft. Redman verwerkte de inspiratie voor zijn muziek in diverse boeken zoals ’10.000 Redenen’\, wat een paar jaar geleden verscheen. \nMet het concert op 25 mei 2022 op het Strandheem Festival keert Matt eindelijk terug naar Nederland. Afgelopen jaar verscheen zijn nieuwe album ‘Let there be wonder’. Matt zal nieuwe liederen laten horen maar uiteraard zullen bekende liederen als ’10.000 Reasons’ en ‘You Never Let Go’ niet ontbreken. Kaarten zijn verkrijgbaar via strandheemfestival.nl. Omdat het concert van Matt het enige is in Nederland belooft de belangstelling groot te zijn. De organisatie raadt dus aan niet te lang te wachten met reserveren. Strandheem Festival zal dit jaar plaats vinden van 25 t/m 29 mei.
URL:https://bandlev.nl/agenda/openingsconcert-strandheem-festival-matt-redman-en-lev/
LOCATION:Strandheem Festival\, Leidijk’s Reed\, Opende\, Groningen
END:VEVENT
END:VCALENDAR