BEGIN:VCALENDAR
VERSION:2.0
PRODID:-//LEV - ECPv6.15.20//NONSGML v1.0//EN
CALSCALE:GREGORIAN
METHOD:PUBLISH
X-WR-CALNAME:LEV
X-ORIGINAL-URL:https://bandlev.nl
X-WR-CALDESC:Evenementen voor LEV
REFRESH-INTERVAL;VALUE=DURATION:PT1H
X-Robots-Tag:noindex
X-PUBLISHED-TTL:PT1H
BEGIN:VTIMEZONE
TZID:Europe/Amsterdam
BEGIN:DAYLIGHT
TZOFFSETFROM:+0100
TZOFFSETTO:+0200
TZNAME:CEST
DTSTART:20210328T010000
END:DAYLIGHT
BEGIN:STANDARD
TZOFFSETFROM:+0200
TZOFFSETTO:+0100
TZNAME:CET
DTSTART:20211031T010000
END:STANDARD
BEGIN:DAYLIGHT
TZOFFSETFROM:+0100
TZOFFSETTO:+0200
TZNAME:CEST
DTSTART:20220327T010000
END:DAYLIGHT
BEGIN:STANDARD
TZOFFSETFROM:+0200
TZOFFSETTO:+0100
TZNAME:CET
DTSTART:20221030T010000
END:STANDARD
BEGIN:DAYLIGHT
TZOFFSETFROM:+0100
TZOFFSETTO:+0200
TZNAME:CEST
DTSTART:20230326T010000
END:DAYLIGHT
BEGIN:STANDARD
TZOFFSETFROM:+0200
TZOFFSETTO:+0100
TZNAME:CET
DTSTART:20231029T010000
END:STANDARD
END:VTIMEZONE
BEGIN:VEVENT
DTSTART;TZID=Europe/Amsterdam:20221008T200000
DTEND;TZID=Europe/Amsterdam:20221008T220000
DTSTAMP:20260421T232428
CREATED:20220319T161728Z
LAST-MODIFIED:20220319T163213Z
UID:4346-1665259200-1665266400@bandlev.nl
SUMMARY:Najaarstour Tot we thuis zijn
DESCRIPTION:Komend najaar hoopt LEV het land in te trekken met het nieuwe album ‘Tot we thuis zijn’. De bandleden zien er ontzettend naar uit\, om de nieuwe muziek met jou te delen en natuurlijk om weer heerlijk samen te zingen. Het wordt een avondvullend programma met naast nieuwe liedjes en verhalen\, natuurlijk ook de vertrouwde LEV muziek! \n‘Tot we thuis zijn’ bezingt en vertelt het verhaal over de reis van ons leven. Een reis waarbij we samen op weg zijn\, maar die ondanks dat soms eenzaam kan voelen. Een reis over hoge toppen en door diepe dalen. Soms denken we het leven op de rit te hebben. Alles onder controle. Maar we hoeven maar te knipperen met onze ogen en alles kan instorten. Een pandemie\, ziekte\, relaties die stuk gaan. Hoe bepaal je richting\, hoe kies je koers in een leven dat zo snel kan veranderen? \nHoe je zelf de weg ook ziet\, of je lang of kort moet lopen.\nDe reis geeft vreugde en verdriet.\nMaar wij geloven\, het mooiste moet nog komen. \nKom dit najaar meegenieten van een nieuw\, hoopvol en eerlijk verhaal van LEV. \nWant wij blijven zingen\, tot we thuis zijn!
URL:https://bandlev.nl/agenda/najaarstour-barneveld/
LOCATION:Emmaüskerk Barneveld\, Groen van Prinstererlaan 2\, Barneveld\, 3771 CD
ATTACH;FMTTYPE=image/jpeg:https://bandlev.nl/wp-content/uploads/2022/03/banner-Tot-we-thuis-zijn.jpg
END:VEVENT
END:VCALENDAR