BEGIN:VCALENDAR
VERSION:2.0
PRODID:-//LEV - ECPv6.15.20//NONSGML v1.0//EN
CALSCALE:GREGORIAN
METHOD:PUBLISH
X-WR-CALNAME:LEV
X-ORIGINAL-URL:https://bandlev.nl
X-WR-CALDESC:Evenementen voor LEV
REFRESH-INTERVAL;VALUE=DURATION:PT1H
X-Robots-Tag:noindex
X-PUBLISHED-TTL:PT1H
BEGIN:VTIMEZONE
TZID:Europe/Amsterdam
BEGIN:DAYLIGHT
TZOFFSETFROM:+0100
TZOFFSETTO:+0200
TZNAME:CEST
DTSTART:20220327T010000
END:DAYLIGHT
BEGIN:STANDARD
TZOFFSETFROM:+0200
TZOFFSETTO:+0100
TZNAME:CET
DTSTART:20221030T010000
END:STANDARD
BEGIN:DAYLIGHT
TZOFFSETFROM:+0100
TZOFFSETTO:+0200
TZNAME:CEST
DTSTART:20230326T010000
END:DAYLIGHT
BEGIN:STANDARD
TZOFFSETFROM:+0200
TZOFFSETTO:+0100
TZNAME:CET
DTSTART:20231029T010000
END:STANDARD
BEGIN:DAYLIGHT
TZOFFSETFROM:+0100
TZOFFSETTO:+0200
TZNAME:CEST
DTSTART:20240331T010000
END:DAYLIGHT
BEGIN:STANDARD
TZOFFSETFROM:+0200
TZOFFSETTO:+0100
TZNAME:CET
DTSTART:20241027T010000
END:STANDARD
END:VTIMEZONE
BEGIN:VEVENT
DTSTART;TZID=Europe/Amsterdam:20230423T080000
DTEND;TZID=Europe/Amsterdam:20230423T170000
DTSTAMP:20260421T223015
CREATED:20221011T181136Z
LAST-MODIFIED:20221011T181136Z
UID:5556-1682236800-1682269200@bandlev.nl
SUMMARY:Koningsfestival
DESCRIPTION:
URL:https://bandlev.nl/agenda/koningsfestival/
LOCATION:Koningsfestival Hardinxveld\, Sluisweg 131A\, Hardinxveld-Giessendam
END:VEVENT
END:VCALENDAR