BEGIN:VCALENDAR
VERSION:2.0
PRODID:-//LEV - ECPv6.15.20//NONSGML v1.0//EN
CALSCALE:GREGORIAN
METHOD:PUBLISH
X-WR-CALNAME:LEV
X-ORIGINAL-URL:https://bandlev.nl
X-WR-CALDESC:Evenementen voor LEV
REFRESH-INTERVAL;VALUE=DURATION:PT1H
X-Robots-Tag:noindex
X-PUBLISHED-TTL:PT1H
BEGIN:VTIMEZONE
TZID:Europe/Amsterdam
BEGIN:DAYLIGHT
TZOFFSETFROM:+0100
TZOFFSETTO:+0200
TZNAME:CEST
DTSTART:20230326T010000
END:DAYLIGHT
BEGIN:STANDARD
TZOFFSETFROM:+0200
TZOFFSETTO:+0100
TZNAME:CET
DTSTART:20231029T010000
END:STANDARD
BEGIN:DAYLIGHT
TZOFFSETFROM:+0100
TZOFFSETTO:+0200
TZNAME:CEST
DTSTART:20240331T010000
END:DAYLIGHT
BEGIN:STANDARD
TZOFFSETFROM:+0200
TZOFFSETTO:+0100
TZNAME:CET
DTSTART:20241027T010000
END:STANDARD
BEGIN:DAYLIGHT
TZOFFSETFROM:+0100
TZOFFSETTO:+0200
TZNAME:CEST
DTSTART:20250330T010000
END:DAYLIGHT
BEGIN:STANDARD
TZOFFSETFROM:+0200
TZOFFSETTO:+0100
TZNAME:CET
DTSTART:20251026T010000
END:STANDARD
END:VTIMEZONE
BEGIN:VEVENT
DTSTART;TZID=Europe/Amsterdam:20241214T200000
DTEND;TZID=Europe/Amsterdam:20241214T223000
DTSTAMP:20260421T224445
CREATED:20240704T065543Z
LAST-MODIFIED:20240925T172349Z
UID:8549-1734206400-1734215400@bandlev.nl
SUMMARY:Kerst met LEV 2024
DESCRIPTION:Het is het hoogtepunt van het jaar: kerst met LEV! Met een nieuw kerstprogramma vol eigen en bekende kerstmuziek\, bezoekt de band ook dit jaar in december verschillende kerken in het land. \nEn dat doen ze dit keer niet alleen. Samen met de hoopvolle en inspirerende verhalen van Pim Brouwer en een geweldig projectkoor onder leiding van Melanie Wilschut\, belooft het een onvergetelijke en verrassende avond te worden. \nDus kom en vier kerst met LEV!
URL:https://bandlev.nl/agenda/kerst-met-lev-2024-zwijndrecht/
LOCATION:Maranathakerk\, Zwijndrecht\, Koninginneweg 1A\, Zwijndrecht\, 3331 CD
END:VEVENT
END:VCALENDAR