BEGIN:VCALENDAR
VERSION:2.0
PRODID:-//LEV - ECPv6.15.20//NONSGML v1.0//EN
CALSCALE:GREGORIAN
METHOD:PUBLISH
X-WR-CALNAME:LEV
X-ORIGINAL-URL:https://bandlev.nl
X-WR-CALDESC:Evenementen voor LEV
REFRESH-INTERVAL;VALUE=DURATION:PT1H
X-Robots-Tag:noindex
X-PUBLISHED-TTL:PT1H
BEGIN:VTIMEZONE
TZID:Europe/Amsterdam
BEGIN:DAYLIGHT
TZOFFSETFROM:+0100
TZOFFSETTO:+0200
TZNAME:CEST
DTSTART:20220327T010000
END:DAYLIGHT
BEGIN:STANDARD
TZOFFSETFROM:+0200
TZOFFSETTO:+0100
TZNAME:CET
DTSTART:20221030T010000
END:STANDARD
BEGIN:DAYLIGHT
TZOFFSETFROM:+0100
TZOFFSETTO:+0200
TZNAME:CEST
DTSTART:20230326T010000
END:DAYLIGHT
BEGIN:STANDARD
TZOFFSETFROM:+0200
TZOFFSETTO:+0100
TZNAME:CET
DTSTART:20231029T010000
END:STANDARD
BEGIN:DAYLIGHT
TZOFFSETFROM:+0100
TZOFFSETTO:+0200
TZNAME:CEST
DTSTART:20240331T010000
END:DAYLIGHT
BEGIN:STANDARD
TZOFFSETFROM:+0200
TZOFFSETTO:+0100
TZNAME:CET
DTSTART:20241027T010000
END:STANDARD
END:VTIMEZONE
BEGIN:VEVENT
DTSTART;TZID=Europe/Amsterdam:20230610T193000
DTEND;TZID=Europe/Amsterdam:20230610T193000
DTSTAMP:20260421T222707
CREATED:20230208T122340Z
LAST-MODIFIED:20230222T093302Z
UID:6306-1686425400-1686425400@bandlev.nl
SUMMARY:Jubileumconcert LEV
DESCRIPTION:Wij vieren 12\,5 jaar LEV! Deze mijlpaal laat de band natuurlijk niet zomaar voorbijgaan. Ze zijn al druk bezig met de voorbereidingen van een feestelijke avond. Wie LEV een beetje kent\, weet dat zij graag feestjes organiseren. En het leuke is: jij bent ook uitgenodigd! \nHet eerste album van LEV verscheen in 2010. In afgelopen 12\,5 jaar zijn er prachtige albums ontstaan: Met hart en handen\, Morgen dans je weer\, Wat een geweldige nacht\, Tussen vrees en veiligheid\, Dansen in de regen en Tot we thuis zijn. \nOp zaterdag 10 juni is het zover. De precieze invulling van de avond blijft nog even een verrassing. Maar wat vaststaat is dat het een avond wordt vol muziek\, leuke herinneringen\, gezelligheid en bijzondere verhalen. \nDe band is dankbaar al zo lang met elkaar onderweg te zijn en viert dit feest graag samen met jou. Een unieke avond\, die je zeker niet wil missen. \nHoe het ook zij\, God is erbij. God gaat mee op reis!
URL:https://bandlev.nl/agenda/jubileumconcert-lev/
LOCATION:De Lichtboog\, Kruisboog 22\, Houten\, 3994 AE
END:VEVENT
END:VCALENDAR