BEGIN:VCALENDAR
VERSION:2.0
PRODID:-//LEV - ECPv6.15.20//NONSGML v1.0//EN
CALSCALE:GREGORIAN
METHOD:PUBLISH
X-WR-CALNAME:LEV
X-ORIGINAL-URL:https://bandlev.nl
X-WR-CALDESC:Evenementen voor LEV
REFRESH-INTERVAL;VALUE=DURATION:PT1H
X-Robots-Tag:noindex
X-PUBLISHED-TTL:PT1H
BEGIN:VTIMEZONE
TZID:Europe/Amsterdam
BEGIN:DAYLIGHT
TZOFFSETFROM:+0100
TZOFFSETTO:+0200
TZNAME:CEST
DTSTART:20210328T010000
END:DAYLIGHT
BEGIN:STANDARD
TZOFFSETFROM:+0200
TZOFFSETTO:+0100
TZNAME:CET
DTSTART:20211031T010000
END:STANDARD
BEGIN:DAYLIGHT
TZOFFSETFROM:+0100
TZOFFSETTO:+0200
TZNAME:CEST
DTSTART:20220327T010000
END:DAYLIGHT
BEGIN:STANDARD
TZOFFSETFROM:+0200
TZOFFSETTO:+0100
TZNAME:CET
DTSTART:20221030T010000
END:STANDARD
BEGIN:DAYLIGHT
TZOFFSETFROM:+0100
TZOFFSETTO:+0200
TZNAME:CEST
DTSTART:20230326T010000
END:DAYLIGHT
BEGIN:STANDARD
TZOFFSETFROM:+0200
TZOFFSETTO:+0100
TZNAME:CET
DTSTART:20231029T010000
END:STANDARD
END:VTIMEZONE
BEGIN:VEVENT
DTSTART;TZID=Europe/Amsterdam:20220903T200000
DTEND;TZID=Europe/Amsterdam:20220903T220000
DTSTAMP:20260422T075026
CREATED:20220630T113319Z
LAST-MODIFIED:20220808T073657Z
UID:5064-1662235200-1662242400@bandlev.nl
SUMMARY:Boerderij tuinconcert
DESCRIPTION:Vanaf 19.30 uur is de tuin open en om 20:00 uur begin van het concert.\n\nToegang: collecte\nAanmelden via: gilsrijs3@gmail.com \n\nMeer info? Bel 0616543101
URL:https://bandlev.nl/agenda/boerderij-tuinconcert/
LOCATION:Stadshoeve Zunderdorp\, Zunderdorpergouw 29\, Zunderdorp
CATEGORIES:Tuinconcerten
END:VEVENT
END:VCALENDAR